Workbook

Sheet ※（参考）簡易計算シート
A1: 施設利用料金簡易計算シート 2026.11.1改訂
A3: 〇 この資料は参考資料です。利用料金について保証するものではありません。ご了承ください。
A5: 品目名等 | L5: 単価 | O5: 数 | R5: 小計 | V5: 備考
A6: 施設使用料【宿泊】
A7: 年少～年長 | L7: 300 | R7: =L7*O7 -> 0 | V7: 1泊あたりの金額 ※一部免除制度があります
A8: 小学生～高校生 | L8: 600 | R8: =L8*O8 -> 0
A9: 大学・短大等の学生 | L9: 1200 | R9: =L9*O9 -> 0
A10: 18歳以上の大人 | L10: 2500 | R10: =L10*O10 -> 0
A11: ①施設使用料 【日帰り：1団体あたり】 | O11: ※日帰りで利用をする際は，①②いずれかの料金をいただきます。
A12: ﾌﾟﾚｲﾎｰﾙ，ｵﾘｴﾝﾃｰｼｮﾝ室， 学習室1，学習室2，学習室3， 多目的ﾎｰﾙ，石風呂棟，工作棟 | L12: 500 | R12: =L12*O12 -> 0 | V12: 1時間あたり/1部屋
A13: ②屋外利用料金 【日帰り：1名あたり】
A14: 年少～年長 | L14: 100 | R14: =L14*O14 -> 0 | V14: ※宿泊が日帰りに変更になる方や 撮影業者の方等が同行される 場合もかかります。
A15: 小学生～高校生 | L15: 100 | R15: =L15*O15 -> 0
A16: 大学・短大等の学生 | L16: 200 | R16: =L16*O16 -> 0
A17: 18歳以上の大人 | L17: 300 | R17: =L17*O17 -> 0
A18: 特定研修活動料金
A19: TAP（徳地アドベンチャ―教育プログラム） | L19: 10000 | R19: =L19*O19 -> 0 | V19: 1グループ3時間あたり
A20: TAP for Classroom | L20: 10000 | R20: =L20*O20 -> 0 | V20: 1グループ3時間あたり
A21: 天体観察 | L21: 6000 | R21: =L21*O21 -> 0 | V21: 参加者100名に対し講師1名（1時間）
A22: バス ガソリン代等 ※R7.10～適用 | V22: ※料金については、お問い合わせください。
A23: 燃料費 | V23: 21円／ｋｍ
A24: 高速料金 | R24: 0
A25: 小 計 | V25: =SUM(R7:U10,R12,R14:U17,R19:U21,R23:U24) -> 0
A28: 品目名等 | L28: 単価 | O28: 数 | R28: 小計 | V28: 備考
A29: 食堂での食事
A30: 朝食 | F30: 幼児（年少～年長） | L30: 430 | O30: =SUM([1]③【2ヵ月前】食事注文票!H17:I28) -> 0 | R30: =L30*O30 -> 0 | V30: 年少未満は無料
F31: 小学生 | L31: 530 | O31: =SUM([1]③【2ヵ月前】食事注文票!I17:K28) -> 0 | R31: =L31*O31 -> 0
F32: 中学生以上 | L32: 620 | O32: =SUM([1]③【2ヵ月前】食事注文票!L17:O28) -> 0 | R32: =L32*O32 -> 0
A33: 昼食 | F33: 幼児（年少～年長） | L33: 580 | O33: =SUM([1]③【2ヵ月前】食事注文票!R17:S28) -> 0 | R33: =L33*O33 -> 0
F34: 小学生 | L34: 720 | O34: =SUM([1]③【2ヵ月前】食事注文票!S17:U28) -> 0 | R34: =L34*O34 -> 0
F35: 中学生以上 | L35: 840 | O35: =SUM([1]③【2ヵ月前】食事注文票!V17:Y28) -> 0 | R35: =L35*O35 -> 0
A36: 夕食 | F36: 幼児（年少～年長） | L36: 680 | O36: =SUM([1]③【2ヵ月前】食事注文票!AB17:AC28) -> 0 | R36: =L36*O36 -> 0
F37: 小学生 | L37: 850 | O37: =SUM([1]③【2ヵ月前】食事注文票!AC17:AE28) -> 0 | R37: =L37*O37 -> 0
F38: 中学生以上 | L38: 960 | O38: =SUM([1]③【2ヵ月前】食事注文票!AF17:AI28) -> 0 | R38: =L38*O38 -> 0
A39: 小 計 | V39: =SUM(R30:U38) -> 0
A41: 品目名等 | L41: 単価 | O41: 数 | R41: 小計 | V41: 備考
A42: 野外炊飯
A43: ビーフカレー | L43: 700 | O43: =[1]③【2ヵ月前】食事注文票!AW24 -> 0 | R43: =L43*O43 -> 0
A44: ハヤシライス | L44: 700 | O44: =[1]③【2ヵ月前】食事注文票!AW25 -> 0 | R44: =L44*O44 -> 0
A45: 炊き込みご飯 | L45: 700 | O45: =[1]③【2ヵ月前】食事注文票!AW27 -> 0 | R45: =L45*O45 -> 0
...
