Workbook

Sheet ※（参考）簡易計算シート
A1: 施設利用料金簡易計算シート 2026.11.1改訂
A3: 〇 この資料は参考資料です。利用料金について保証するものではありません。ご了承ください。
A5: 品目名等 | L5: 単価 | O5: 数 | R5: 小計 | V5: 備考
A6: 施設使用料【宿泊】
A7: 年少～年長 | L7: 300 | R7: =L7*O7 -> 0 | V7: 1泊あたりの金額 ※一部免除制度があります
A8: 小学生～高校生 | L8: 600 | R8: =L8*O8 -> 0
A9: 大学・短大等の学生 | L9: 1200 | R9: =L9*O9 -> 0
A10: 18歳以上の大人 | L10: 2500 | R10: =L10*O10 -> 0
A11: ①施設使用料 【日帰り：1団体あたり】 | O11: ※日帰りで利用をする際は，①②いずれかの料金をいただきます。
A12: ﾌﾟﾚｲﾎｰﾙ，ｵﾘｴﾝﾃｰｼｮﾝ室， 学習室1，学習室2，学習室3， 多目的ﾎｰﾙ，石風呂棟，工作棟 | L12: 500 | R12: =L12*O12 -> 0 | V12: 1時間あたり/1部屋
A13: ②屋外利用料金 【日帰り：1名あたり】
A14: 年少～年長 | L14: 100 | R14: =L14*O14 -> 0 | V14: ※宿泊が日帰りに変更になる方や 撮影業者の方等が同行される 場合もかかります。
A15: 小学生～高校生 | L15: 100 | R15: =L15*O15 -> 0
A16: 大学・短大等の学生 | L16: 200 | R16: =L16*O16 -> 0
A17: 18歳以上の大人 | L17: 300 | R17: =L17*O17 -> 0
A18: 特定研修活動料金
A19: TAP（徳地アドベンチャ―教育プログラム） | L19: 10000 | R19: =L19*O19 -> 0 | V19: 1グループ3時間あたり
A20: TAP for Classroom | L20: 10000 | R20: =L20*O20 -> 0 | V20: 1グループ3時間あたり
A21: 天体観察 | L21: 6000 | R21: =L21*O21 -> 0 | V21: 参加者100名に対し講師1名（1時間）
A22: バス ガソリン代等 ※R7.10～適用 | V22: ※料金については、お問い合わせください。
A23: 燃料費 | V23: 21円／ｋｍ
A24: 高速料金 | R24: 0
A25: 小 計 | V25: =SUM(R7:U10,R12,R14:U17,R19:U21,R23:U24) -> 0
A28: 品目名等 | L28: 単価 | O28: 数 | R28: 小計 | V28: 備考
A29: 食堂での食事
A30: 朝食 | F30: 幼児（年少～年長） | L30: 430 | O30: =SUM([1]③【2ヵ月前】食事注文票!H17:I28) -> 0 | R30: =L30*O30 -> 0 | V30: 年少未満は無料
F31: 小学生 | L31: 530 | O31: =SUM([1]③【2ヵ月前】食事注文票!I17:K28) -> 0 | R31: =L31*O31 -> 0
F32: 中学生以上 | L32: 620 | O32: =SUM([1]③【2ヵ月前】食事注文票!L17:O28) -> 0 | R32: =L32*O32 -> 0
A33: 昼食 | F33: 幼児（年少～年長） | L33: 580 | O33: =SUM([1]③【2ヵ月前】食事注文票!R17:S28) -> 0 | R33: =L33*O33 -> 0
F34: 小学生 | L34: 720 | O34: =SUM([1]③【2ヵ月前】食事注文票!S17:U28) -> 0 | R34: =L34*O34 -> 0
F35: 中学生以上 | L35: 840 | O35: =SUM([1]③【2ヵ月前】食事注文票!V17:Y28) -> 0 | R35: =L35*O35 -> 0
A36: 夕食 | F36: 幼児（年少～年長） | L36: 680 | O36: =SUM([1]③【2ヵ月前】食事注文票!AB17:AC28) -> 0 | R36: =L36*O36 -> 0
F37: 小学生 | L37: 850 | O37: =SUM([1]③【2ヵ月前】食事注文票!AC17:AE28) -> 0 | R37: =L37*O37 -> 0
F38: 中学生以上 | L38: 960 | O38: =SUM([1]③【2ヵ月前】食事注文票!AF17:AI28) -> 0 | R38: =L38*O38 -> 0
A39: 小 計 | V39: =SUM(R30:U38) -> 0
A41: 品目名等 | L41: 単価 | O41: 数 | R41: 小計 | V41: 備考
A42: 野外炊飯
A43: ビーフカレー | L43: 700 | O43: =[1]③【2ヵ月前】食事注文票!AW24 -> 0 | R43: =L43*O43 -> 0
A44: ハヤシライス | L44: 700 | O44: =[1]③【2ヵ月前】食事注文票!AW25 -> 0 | R44: =L44*O44 -> 0
A45: 炊き込みご飯 | L45: 700 | O45: =[1]③【2ヵ月前】食事注文票!AW27 -> 0 | R45: =L45*O45 -> 0
A46: 豚汁 | L46: 700 | O46: =[1]③【2ヵ月前】食事注文票!AW28 -> 0 | R46: =L46*O46 -> 0
A47: クリームシチュー | L47: 700 | O47: =[1]③【2ヵ月前】食事注文票!AW29 -> 0 | R47: =L47*O47 -> 0
A48: ビーフシチュー | L48: 700 | R48: =L48*O48 -> 0
A49: 焼きそば | L49: 700 | O49: =[1]③【2ヵ月前】食事注文票!AW32 -> 0 | R49: =L49*O49 -> 0
A50: ホットドッグ２本 | L50: 400 | O50: =[1]③【2ヵ月前】食事注文票!AW34 -> 0 | R50: =L50*O50 -> 0
A51: 牛肉（150g） | L51: 1100 | O51: =[1]③【2ヵ月前】食事注文票!AW35 -> 0 | R51: =L51*O51 -> 0 | V51: 野菜・コショウ・タレ付き
A52: 豚肉（150g） | L52: 800 | O52: =[1]③【2ヵ月前】食事注文票!AW36 -> 0 | R52: =L52*O52 -> 0 | V52: 野菜・塩コショウ・タレ付き
A53: 鶏肉（150g） | L53: 800 | O53: =[1]③【2ヵ月前】食事注文票!AW37 -> 0 | R53: =L53*O53 -> 0 | V53: 野菜・塩コショウ・タレ付き
A54: 野外炊飯 追加食材 | E54: 米100g追加 | L54: 100 | O54: =[1]④【2ヵ月前】追加食材・補助食注文票!N10 -> 0 | R54: =L54*O54 -> 0
E55: 牛肉（500g追加） | L55: 1600 | O55: =[1]④【2ヵ月前】追加食材・補助食注文票!N14 -> 0 | R55: =L55*O55 -> 0
E56: 豚肉（500g追加） | L56: 1000 | O56: =[1]④【2ヵ月前】追加食材・補助食注文票!N12 -> 0 | R56: =L56*O56 -> 0
E57: 鶏肉（500g追加） | L57: 1000 | O57: =[1]④【2ヵ月前】追加食材・補助食注文票!N13 -> 0 | R57: =L57*O57 -> 0
E58: 焼きそば3玉 | L58: 350 | O58: =[1]④【2ヵ月前】追加食材・補助食注文票!N11 -> 0 | R58: =L58*O58 -> 0
E59: わかめスープ | L59: 60 | O59: =[1]④【2ヵ月前】追加食材・補助食注文票!N15 -> 0 | R59: =L59*O59 -> 0
E60: みそ汁 | L60: 60 | O60: =[1]④【2ヵ月前】追加食材・補助食注文票!N16 -> 0 | R60: =L60*O60 -> 0
A61: 野外炊飯薪代 | L61: 700 | O61: =[1]③【2ヵ月前】食事注文票!AW41 -> 0 | R61: =L61*O61 -> 0 | V61: １グループにつき１束
A62: 小 計 | V62: =SUM(R43:U61) -> 0
A64: 品目名等 | L64: 単価 | O64: 数 | R64: 小計 | V64: 備考
A65: お弁当
A66: 朝食・昼食用 | F66: パン弁当 | L66: 600 | O66: =[1]③【2ヵ月前】食事注文票!AW22 -> 0 | R66: =L66*O66 -> 0 | V66: パン・パックジュース・バナナ・ゼリー・ソーセージ各１個
A67: 昼食用 | F67: 洋風弁当 | L67: 690 | O67: =[1]③【2ヵ月前】食事注文票!AW18 -> 0 | R67: =L67*O67 -> 0 | V67: 白米とおかず
F68: 和風弁当 | L68: 690 | O68: =[1]③【2ヵ月前】食事注文票!AW19 -> 0 | R68: =L68*O68 -> 0 | V68: 白米とおかず
F69: おにぎり弁当 | L69: 690 | O69: =[1]③【2ヵ月前】食事注文票!AW20 -> 0 | R69: =L69*O69 -> 0 | V69: おむすび2個とおかず
A70: 小 計 | V70: =SUM(R66:U69) -> 0
A73: 品目名等 | L73: 単価 | O73: 数 | R73: 小計 | V73: 備考
A74: 補助食・飲み物等
A75: 菓子パン | L75: 210 | O75: =SUM([1]④【2ヵ月前】追加食材・補助食注文票!N22:P24) -> 0 | R75: =L75*O75 -> 0 | V75: ｺｯﾍﾟﾊﾟﾝ、ﾒﾛﾝﾊﾟﾝ、ｸﾘｰﾑﾊﾟﾝ
A76: 牛乳・緑茶 200ml | L76: 110 | O76: =SUM([1]④【2ヵ月前】追加食材・補助食注文票!N27:P28) -> 0 | R76: =L76*O76 -> 0
A77: パックジュース | L77: 110 | O77: =SUM([1]④【2ヵ月前】追加食材・補助食注文票!N25:P26) -> 0 | R77: =L77*O77 -> 0 | V77: ｵﾚﾝｼﾞｼﾞｭｰｽ、ｱｯﾌﾟﾙｼﾞｭｰｽ
A78: ｶｽﾀｰﾄﾞﾌﾟﾘﾝ・青りんごｾﾞﾘｰ | L78: 80 | O78: =SUM([1]④【2ヵ月前】追加食材・補助食注文票!N18:P19) -> 0 | R78: =L78*O78 -> 0
A79: アイス（店頭販売品） | L79: 200 | O79: =[1]④【2ヵ月前】追加食材・補助食注文票!N20 -> 0 | R79: =L79*O79 -> 0
A80: アクエリアス 500ml | L80: 160 | O80: =[1]④【2ヵ月前】追加食材・補助食注文票!N30 -> 0 | R80: =L80*O80 -> 0
A81: 麦茶 500ml | L81: 160 | O81: =[1]④【2ヵ月前】追加食材・補助食注文票!N31 -> 0 | R81: =L81*O81 -> 0
A82: ミネラルウォーター 500ml | L82: 120 | O82: =[1]④【2ヵ月前】追加食材・補助食注文票!N32 -> 0 | R82: =L82*O82 -> 0
A83: ロックアイス（1.0kg） | L83: 300 | O83: =[1]④【2ヵ月前】追加食材・補助食注文票!N34 -> 0 | R83: =L83*O83 -> 0
A84: ゴミ袋（45L) | L84: 150 | R84: =L84*O84 -> 0 | V84: 処理代含む
A85: 小 計 | V85: =SUM(R75:U84) -> 0
A88: 品目名等 | L88: 単価 | O88: 晴天時 数 | Q88: 雨天時 数 | S88: 晴天時 小計 | V88: 雨天時 小計 | Y88: 備考
A90: 活動教材費
A91: キャンプファイヤー | F91: まき・灯油（3L) | L91: 6600 | O91: =[1]⑤【2ヵ月前】活動教材注文票!AC12 -> 0 | S91: =L91*O91 -> 0
F92: トーチ棒1本 | L92: 100 | O92: =[1]⑤【2ヵ月前】活動教材注文票!AC13 -> 0 | S92: =L92*O92 -> 0 | Y92: 要作成・布は団体準備
F93: トーチ棒用灯油（1L） | L93: 120 | O93: =[1]⑤【2ヵ月前】活動教材注文票!AC14 -> 0 | S93: =L93*O93 -> 0 | Y93: トーチ棒10本分
A94: キャンドルのつどい | F94: 燭台使用料 | L94: 300 | O94: =[1]⑤【2ヵ月前】活動教材注文票!AC15 -> 0 | Q94: =[1]⑤【2ヵ月前】活動教材注文票!AE15 -> 0 | S94: =L94*O94 -> 0 | V94: =IFERROR(L94*Q94,"") -> 0 | Y94: ろうそく 大 付
F95: ろうそく小1本 | L95: 10 | O95: =[1]⑤【2ヵ月前】活動教材注文票!AC16 -> 0 | Q95: =[1]⑤【2ヵ月前】活動教材注文票!AE16 -> 0 | S95: =L95*O95 -> 0 | V95: =IFERROR(L95*Q95,"") -> 0 | Y95: ロウの受け皿用アルミホイル付
A96: 焼板細工 | L96: 400 | O96: =[1]⑤【2ヵ月前】活動教材注文票!AC17 -> 0 | Q96: =[1]⑤【2ヵ月前】活動教材注文票!AE17 -> 0 | S96: =L96*O96 -> 0 | V96: =L96*Q96 -> 0 | Y96: 板1枚・絵具（貸出）・薪
A97: 木工細工 | F97: キーホルダー（未加工） | L97: 150 | O97: =[1]⑤【2ヵ月前】活動教材注文票!AC18 -> 0 | Q97: =[1]⑤【2ヵ月前】活動教材注文票!AE18 -> 0 | S97: =L97*O97 -> 0 | V97: =L97*Q97 -> 0
F98: キーホルダー（加工済み） | L98: 200 | O98: =[1]⑤【2ヵ月前】活動教材注文票!AC19 -> 0 | Q98: =[1]⑤【2ヵ月前】活動教材注文票!AE19 -> 0 | S98: =L98*O98 -> 0 | V98: =L98*Q98 -> 0
F99: ヒートン（1個） | L99: 5
F100: 麻ひも（60m） | L100: 60
F101: 目玉（2個） | L101: 10
A102: プラホビー | L102: 120 | O102: =[1]⑤【2ヵ月前】活動教材注文票!AC20 -> 0 | Q102: =[1]⑤【2ヵ月前】活動教材注文票!AE20 -> 0 | S102: =L102*O102 -> 0 | V102: =L102*Q102 -> 0 | Y102: プラスチック板（1枚）
A103: 和紙作り | L103: 500 | Q103: =[1]⑤【2ヵ月前】活動教材注文票!AE21 -> 0 | S103: =L103*O103 -> 0 | V103: =L103*Q103 -> 0 | Y103: はがき用（20枚程度）
A104: こんにゃくづくり | L104: 550 | O104: =[1]⑤【2ヵ月前】活動教材注文票!AC23 -> 0 | S104: =L104*O104 -> 0 | V104: =L104*O104 -> 0 | Y104: （10月～3月のみ）5人単位で申込
A105: 竹細工 | F105: コップ | L105: 200 | O105: =[1]⑤【2ヵ月前】活動教材注文票!AC26 -> 0 | S105: =L105*O105 -> 0 | V105: =L105*O105 -> 0
F106: コップ以外 | L106: 150 | O106: =[1]⑤【2ヵ月前】活動教材注文票!AC27 -> 0 | S106: =L106*O106 -> 0 | V106: =L106*O106 -> 0
A107: ストーンアート | L107: 80 | O107: =[1]⑤【2ヵ月前】活動教材注文票!AC28 -> 0 | Q107: =[1]⑤【2ヵ月前】活動教材注文票!AE28 -> 0 | S107: =L107*O107 -> 0 | V107: =L107*Q107 -> 0 | Y107: 絵具・ニス（貸出）
A108: ホットボンド用接着剤 | L108: 15 | O108: =[1]⑤【2ヵ月前】活動教材注文票!AC25 -> 0 | Q108: =[1]⑤【2ヵ月前】活動教材注文票!AE28 -> 0 | S108: =L108*O108 -> 0 | V108: =L108*Q108 -> 0
A109: 葉っぱのスタンプ | L109: 50 | O109: =[1]⑤【2ヵ月前】活動教材注文票!AC29 -> 0 | Q109: =[1]⑤【2ヵ月前】活動教材注文票!AE29 -> 0 | S109: =L109*O109 -> 0 | V109: =L109*Q109 -> 0 | Y109: はがきサイズの用紙（5枚）
A110: 丸太でペンスタンド | L110: 150 | O110: =[1]⑤【2ヵ月前】活動教材注文票!AC30 -> 0 | Q110: =[1]⑤【2ヵ月前】活動教材注文票!AE30 -> 0 | S110: =L110*O110 -> 0 | V110: =L110*Q110 -> 0 | Y110: 丸太・ボンド（1人分）
A111: 薪1束 | L111: 700 | O111: =[1]⑤【2ヵ月前】活動教材注文票!AC31 -> 0 | Q111: =[1]⑤【2ヵ月前】活動教材注文票!AE31 -> 0 | S111: =L111*O111 -> 0 | V111: =L111*Q111 -> 0 | Y111: 自主活動用
...
